BEGIN:VCALENDAR
VERSION:2.0
PRODID:-//eventon.com NONSGML v1.0//EN
BEGIN:VEVENT
UID:69eaf0486db9f
DTSTAMP:20260424T062336
DTSTART:20250904T160000Z
DTEND:20250904T200000Z
LOCATION:Murinsel Graz Lendkai 19 8020 Graz
SUMMARY:Latino Party
DESCRIPTION: Let's Dance Latino Style Am Donnerstag\,  den 4. September\,  wird die Murinsel zur Latino Party Lerne beim Tanz-Workshop Salsa & Batchata Im Anschluss legen DJ El Patron (Mi Casa) und DJ El Papi (Kandela) auf und du kannst gleich deine neuen Tanzkünste ausprobieren Komm vorbei und tanze mit uns durch[..]
END:VEVENT
END:VCALENDAR