BEGIN:VCALENDAR
VERSION:2.0
PRODID:-//eventon.com NONSGML v1.0//EN
BEGIN:VEVENT
UID:69eb1f938258e
DTSTAMP:20260424T094523
DTSTART:20250718T170000Z
DTEND:20250718T215000Z
LOCATION:Murinsel Graz Lendkai 19 8020 Graz
SUMMARY:Konzert Marc Euvrie
DESCRIPTION: Marc Euvrie spielt auf der Murinsel: Ein Stop auf seiner Normadic Piano & Cello Summer Tour 2025 ist bei uns in Graz.  Mit über 20-jähriger Erfahrung und über 700 Konzerten auf der ganzen Welt begeistert Marc Euvrie (früher bekannt als The eye of time) mit seiner Musik. Er entführt in[..]
END:VEVENT
END:VCALENDAR