BEGIN:VCALENDAR
VERSION:2.0
PRODID:-//eventon.com NONSGML v1.0//EN
BEGIN:VEVENT
UID:69e76db4bbc55
DTSTAMP:20260421T142940
DTSTART:20250701T170000Z
DTEND:20250701T215000Z
LOCATION:Murinsel Graz Lendkai 19 8020 Graz
SUMMARY:FINE CRIME FESTIVAL 2025
DESCRIPTION: Di\,  1. Juli\,  ab 19:00 Uhr MÖRDERISCHER WALD Wenn die Bäume zu flüstern beginnen und Schatten zu Geschichten werden\,  betreten drei Autor:innen den dunklen Pfad des Verbrechens. Begleitet von steirischer Live-Musik lädt dieser Abend zu literarischen Abgründen im grünen Dickicht. Fine Crime – wo Literatur unter die Haut geht. _______________[..]
END:VEVENT
END:VCALENDAR