BEGIN:VCALENDAR
VERSION:2.0
PRODID:-//eventon.com NONSGML v1.0//EN
BEGIN:VEVENT
UID:69eaf57e8d8a7
DTSTAMP:20260424T064550
DTSTART:20250908T180000Z
DTEND:20250908T215000Z
LOCATION:Murinsel Graz Lendkai 19 8020 Graz
SUMMARY:Billy Elliot
DESCRIPTION: UK 2000 – 106 Minuten – FSK: 6 – deutsche Fassung R: Stephen Daldry D: Jamie Bell\,  Julie Walters\,  Gary Lewis Im England der 1980er-Jahre kämpft ein Minenarbeiter darum\,  mit seinen kargen Einkünften die Familie durchzubringen. Sein elfjähriger Sohn Billy hat aber anderes im Kopf\,  als seinem Vater einmal in[..]
END:VEVENT
END:VCALENDAR