BEGIN:VCALENDAR
VERSION:2.0
PRODID:-//eventon.com NONSGML v1.0//EN
BEGIN:VEVENT
UID:69eaf5e1c4e5f
DTSTAMP:20260424T064729
DTSTART:20250903T180000Z
DTEND:20250903T215000Z
LOCATION:Murinsel Graz Lendkai 19 8020 Graz
SUMMARY:Der Partyschreck
DESCRIPTION: USA 1968 – 94 Minuten – FSK: 6 – engl. OV mit dt. UT R: Blake Edwards D: Peter Sellers\,  Claudine Longet\,  Steve Franken Hrundi V. Bakshi ist ein glückloser indischer Kleindarsteller\,  der Pech und Missgeschick magisch anzieht. Nachdem er durch seine Schussligkeit ein komplettes Filmset in Schutt und Asche[..]
END:VEVENT
END:VCALENDAR