BEGIN:VCALENDAR
VERSION:2.0
PRODID:-//eventon.com NONSGML v1.0//EN
BEGIN:VEVENT
UID:69eb092996939
DTSTAMP:20260424T080945
DTSTART:20250902T180000Z
DTEND:20250902T215000Z
LOCATION:Murinsel Graz Lendkai 19 8020 Graz
SUMMARY:Der Elefantenmensch
DESCRIPTION: USA 1980 – 123 Minuten – FSK: 12 – engl. OV mit dt. UT R: David Lynch D: Anthony Hopkins\,  John Hurt\,  Anne Bancroft Die traurige Geschichte eines Mannes\,  der aufgrund seiner entstellenden Krankheit als "Monster" auf einem Jahrmarkt auftreten muss\,  bis ihn ein junger Arzt bei sich aufnimmt. DER[..]
END:VEVENT
END:VCALENDAR