BEGIN:VCALENDAR
VERSION:2.0
PRODID:-//eventon.com NONSGML v1.0//EN
BEGIN:VEVENT
UID:69eb09b36f609
DTSTAMP:20260424T081203
DTSTART:20250901T180000Z
DTEND:20250901T215000Z
LOCATION:Murinsel Graz Lendkai 19 8020 Graz
SUMMARY:Pitch Perfect
DESCRIPTION: USA 2012 – 112 Minuten – FSK: 6 – deutsche Fassung R: Jason Moore D: Anna Kendrick\,  Ben Platt\,  Rebel Wilson Eine junge Frau lässt sich ihrem Vater zuliebe darauf ein\,  ein Jahr am College zu verbringen\,  wo sie rasch Anschluss an eine Frauen-A-Cappella-Gruppe voller schräger\,  sympathischer Mitsängerinnen findet. Turbulente[..]
END:VEVENT
END:VCALENDAR