BEGIN:VCALENDAR
VERSION:2.0
PRODID:-//eventon.com NONSGML v1.0//EN
BEGIN:VEVENT
UID:69eb09229a805
DTSTAMP:20260424T080938
DTSTART:20250827T180000Z
DTEND:20250827T215000Z
LOCATION:Murinsel Graz Lendkai 19 8020 Graz
SUMMARY:Zimmer mit Ausblick
DESCRIPTION: UK 1985 – 116 Minuten – FSK: 12 – engl. OV mit dt. UT R: Jamey Ivory D: Maggie Smith\,  Helena Bonham Carter\,  Julian Sands Die Engländerin Lucy ist mit ihrer Cousine Charlotte auf einer Bildungsreise in Florenz. Dort lernt sie den unkonventionellen George kennen und verliebt sich in ihn.[..]
END:VEVENT
END:VCALENDAR