BEGIN:VCALENDAR
VERSION:2.0
PRODID:-//eventon.com NONSGML v1.0//EN
BEGIN:VEVENT
UID:69eaf0486ce1a
DTSTAMP:20260424T062336
DTSTART:20250826T180000Z
DTEND:20250826T215000Z
LOCATION:Murinsel Graz Lendkai 19 8020 Graz
SUMMARY:Die Ferien des Monsieur Hulot
DESCRIPTION: FRA 1953 – 110 Minuten – FSK: 6 R: Jacques Tati D: Jacques Tati Monsieur Hulot verbringt seinen Urlaub in einem Strandhotel in der Bretagne. Während die anderen Feriengäste schwimmen\,  Tennisspielen oder amüsante Gesellschaftsabende veranstalten\,  sorgt Monsieur Hulot immer wieder für Aufsehen\,  indem ihm ein unbeabsichtigtes Missgeschick nach dem anderen[..]
END:VEVENT
END:VCALENDAR