BEGIN:VCALENDAR
VERSION:2.0
PRODID:-//eventon.com NONSGML v1.0//EN
BEGIN:VEVENT
UID:69eabe1d3dae0
DTSTAMP:20260424T024933
DTSTART:20250825T180000Z
DTEND:20250825T215000Z
LOCATION:Murinsel Graz Lendkai 19 8020 Graz
SUMMARY:Atmen
DESCRIPTION: AUT 2011 – 90 Minuten – FSK: 12 – deutsche Fassung R: Karl Markovics D: Thomas Schubert\,  Karin Lischka\,  Gerhard Liebmann Ein 19-jähriger wegen Totschlags verurteilter junger Mann steht nach vier Jahren Haft an der Kippe zwischen vorzeitiger Entlassung und Verbüßung der vollen Strafe. Ein Job bei der Wiener Bestattung[..]
END:VEVENT
END:VCALENDAR