BEGIN:VCALENDAR
VERSION:2.0
PRODID:-//eventon.com NONSGML v1.0//EN
BEGIN:VEVENT
UID:69eaf49ef24f2
DTSTAMP:20260424T064206
DTSTART:20250820T180000Z
DTEND:20250820T215000Z
LOCATION:Murinsel Graz Lendkai 19 8020 Graz
SUMMARY:DIAGONALE präsentiert: SUGARLAND
DESCRIPTION: AUT/UK 2025 – 86 Minuten – FSK: 12 – engl. OV mit dt. UT R: Isabella Brunnäcker D: Jana McKinnon\,  Bill Caple Iga fährt mit dem Auto Richtung Norden. Ihr Vorhaben\,  einsame\,  nachdenklich gestimmte Tage auf der Autobahn zu verbringen\,  wird an einer Tankstelle von Ethan\,  einem sich treiben lassenden[..]
END:VEVENT
END:VCALENDAR