BEGIN:VCALENDAR
VERSION:2.0
PRODID:-//eventon.com NONSGML v1.0//EN
BEGIN:VEVENT
UID:69eb08abd8a4c
DTSTAMP:20260424T080739
DTSTART:20250819T180000Z
DTEND:20250819T215000Z
LOCATION:Murinsel Graz Lendkai 19 8020 Graz
SUMMARY:Pretty Woman
DESCRIPTION: USA 1990 – 119 Minuten – FSK: 12 – engl. OV mit dt. UT R: Garry Marshall D: Julia Roberts\,  Richard Gere\,  Hector Elizondo PRETTY WOMAN erzählt das bekannte "Pygmalion"-Thema in einer unterhaltsamen Neuauflage\,  angesiedelt vor der schicken Kulisse des Rodeo Drive und des Luxushotels Beverly Willshire. Die elegant von[..]
END:VEVENT
END:VCALENDAR