BEGIN:VCALENDAR
VERSION:2.0
PRODID:-//eventon.com NONSGML v1.0//EN
BEGIN:VEVENT
UID:69eb2bb6cc55f
DTSTAMP:20260424T103710
DTSTART:20250813T180000Z
DTEND:20250813T215000Z
LOCATION:Murinsel Graz Lendkai 19 8020 Graz
SUMMARY:Die Farbe Lila
DESCRIPTION: USA 1985 – 140 Minuten – FSK: 12– engl. OV mit dt. UT R: Steven Spielberg D: Whoopi Goldberg\,  Danny Glover\,  Oprah Winfrey Die Emanzipation einer jungen Schwarzen in den amerikanischen Südstaaten - von der gedemütigten und missbrauchten Hausfrau zu erwachendem Selbstbewusstsein. Whoopi Goldberg’s überzeugendes Leinwanddebut in einer kraftvollen Erzählung[..]
END:VEVENT
END:VCALENDAR