BEGIN:VCALENDAR
VERSION:2.0
PRODID:-//eventon.com NONSGML v1.0//EN
BEGIN:VEVENT
UID:69eb363e0d7fa
DTSTAMP:20260424T112206
DTSTART:20250812T180000Z
DTEND:20250812T215000Z
LOCATION:Murinsel Graz Lendkai 19 8020 Graz
SUMMARY:Prinzessin Mononoke
DESCRIPTION: JPN 1988 – 126 Minuten – FSK: 12– japan. OV mit dt. UT R: Hayao Miyazaki Vor langer\,  langer Zeit\,  als in Japan noch die Götter regieren\,  lebt in einem riesigen Wald die wilde Prinzessin Mononoke bei den Wölfen. Doch das friedliche Miteinander von Mensch und Tier ist bedroht… Hayao[..]
END:VEVENT
END:VCALENDAR