BEGIN:VCALENDAR
VERSION:2.0
PRODID:-//eventon.com NONSGML v1.0//EN
BEGIN:VEVENT
UID:69eb418fb7ed4
DTSTAMP:20260424T121023
DTSTART:20250806T180000Z
DTEND:20250806T215000Z
LOCATION:Murinsel Graz Lendkai 19 8020 Graz
SUMMARY:Willow
DESCRIPTION: USA 1988 – 123 Minuten – FSK: 12– engl. OV mit dt. UT R: Ron Howard D: Val Kilmer\,  Joanne Whalley\,  Warwick Davis Eine fantastische Reise durch das Land der Fantasie in eine Zeit der Wunder und Abenteuer erzählt die Geschichte um zwei ungleiche Helden\,  die ein Baby vor der[..]
END:VEVENT
END:VCALENDAR