BEGIN:VCALENDAR
VERSION:2.0
PRODID:-//eventon.com NONSGML v1.0//EN
BEGIN:VEVENT
UID:69eb521eb3056
DTSTAMP:20260424T132102
DTSTART:20250805T180000Z
DTEND:20250805T215000Z
LOCATION:Murinsel Graz Lendkai 19 8020 Graz
SUMMARY:Ungeküsst soll man nicht schlafen geh'n
DESCRIPTION: AUT 1936 – 85 Minuten – FSK: 6 – deutsche Fassung R: E.W. Emo D: Heinz Rühmann\,  Theo Lingen\,  Hans Moser Anlässlich eines Wohltätigkeitsballs in Wien soll ein Kuss einer berühmten Filmschauspielerin versteigert werden. Missverständnisse zwischen dem Manager des Filmstars\,  einem Schallplattenproduzenten und einem Studenten führen zu allerlei Verwechslungen… Komödienklassiker[..]
END:VEVENT
END:VCALENDAR