BEGIN:VCALENDAR
VERSION:2.0
PRODID:-//eventon.com NONSGML v1.0//EN
BEGIN:VEVENT
UID:69eb4691ab995
DTSTAMP:20260424T123145
DTSTART:20250730T190000Z
DTEND:20250730T215000Z
LOCATION:Murinsel Graz Lendkai 19 8020 Graz
SUMMARY:Stummfilmklassiker mit Live-Klavierbegleitung: Phantom der Oper
DESCRIPTION: USA 1925 – 90 Minuten – FSK: 12 R: Rupert Julian D: Lon Chaney\,  Mary Philbin\,  Norman Kerry Gruselfilmklassiker mit Lon Chaney\,  dem “Mann mit den tausend Gesichtern“. Tief in den Gewölben der Pariser Oper haust der irre Komponist Erik\,  der sein entstelltes Gesicht hinter einer Maske verbirgt. Nur gelegentlich[..]
END:VEVENT
END:VCALENDAR