BEGIN:VCALENDAR
VERSION:2.0
PRODID:-//eventon.com NONSGML v1.0//EN
BEGIN:VEVENT
UID:69ead993c9037
DTSTAMP:20260424T044643
DTSTART:20250728T190000Z
DTEND:20250728T215000Z
LOCATION:Murinsel Graz Lendkai 19 8020 Graz
SUMMARY:Stand by me
DESCRIPTION: USA 1986 – 90 Minuten – FSK: 6 – deutsche Fassung R: Rob Reiner D: River Phoenix\,  Corey Feldman\,  Will Wheaton Stephen King-Verfilmung über vier Außenseiter\,  die sich auf die Suche nach der Leiche eines vermissten Jungen machen. Ein Film über Freundschaft\,  Identitätssuche und die schwierige Zeit zwischen Kindheit und[..]
END:VEVENT
END:VCALENDAR