BEGIN:VCALENDAR
VERSION:2.0
PRODID:-//eventon.com NONSGML v1.0//EN
BEGIN:VEVENT
UID:69eb415136faf
DTSTAMP:20260424T120921
DTSTART:20250723T190000Z
DTEND:20250723T215000Z
LOCATION:Murinsel Graz Lendkai 19 8020 Graz
SUMMARY:Mamma Mia
DESCRIPTION: Miss Desmonds Sommerfilmparty feat. the legendary Lucy McEvil: MAMMA MIA Platzreservierung ab 23.6.2025 per e-mail an filmzentrum@filmzentrum.com\,  max. 4 Plätze pro Reservierung) USA/GB 2008 – 108 Minuten – FSK: 0 – deutsche Fassung R: Phyllida Lloyd D: Meryl Streep\,  Amanda Seyfried\,  Pierce Brosnan Mamma Mia\,  heut geht’s rund! Romantisches Musical[..]
END:VEVENT
END:VCALENDAR