BEGIN:VCALENDAR
VERSION:2.0
PRODID:-//eventon.com NONSGML v1.0//EN
BEGIN:VEVENT
UID:69eb6c82d9d7f
DTSTAMP:20260424T151338
DTSTART:20250722T190000Z
DTEND:20250722T215000Z
LOCATION:Murinsel Graz Lendkai 19 8020 Graz
SUMMARY:Manche mögen's heiß
DESCRIPTION: USA 1959 – 100 Minuten – FSK: 16 – engl. OV mit dt. UT R: Billy Wilder D: Marilyn Monroe\,  Jack Lemmon\,  Tony Curtis Zwei Jazzmusiker müssen sich vor der Mafia verstecken und schließen sich\,  als Frauen verkleidet\,  einer Damenkapelle an. Sie reisen mit dieser nach Florida und geraten in[..]
END:VEVENT
END:VCALENDAR