BEGIN:VCALENDAR
VERSION:2.0
PRODID:-//eventon.com NONSGML v1.0//EN
BEGIN:VEVENT
UID:69e737064bd61
DTSTAMP:20260421T103622
DTSTART:20220831T180000Z
DTEND:20220831T215000Z
LOCATION:Murinsel Amphitheater 
SUMMARY:HAROLD & MAUDE
DESCRIPTION: 20 Uhr\,  Eintritt frei Hal Ashbys anarchistische Kultkomödie erzählt unterstützt von der Musik von Cat Stevens die Geschichte von Harold\,  einem depressiv veranlagten jungen Mann aus reichem Haus\,  der seine Verwandtschaft mit einem makabren Todeskult schockiert und durch die Freundschaft mit der 80-jährigen Maude\,  die außerhalb aller gesellschaftlichen Konventionen lebt\, [..]
END:VEVENT
END:VCALENDAR