BEGIN:VCALENDAR
VERSION:2.0
PRODID:-//eventon.com NONSGML v1.0//EN
BEGIN:VEVENT
UID:69e751d5abb9b
DTSTAMP:20260421T123045
DTSTART:20200822T173000Z
DTEND:20200822T215000Z
LOCATION:Murinsel Graz Lendkai 19 8020 Graz
SUMMARY:"Die Grüne Insel" by Vitamins of Society
DESCRIPTION: Auf "Die Grüne Insel" führt eine theatralische Traumreise über die Hoffnungen und Vorstellungen der Umwelt- und Friedensbewegung und über das Theater als Kultstätte der menschlichen Phantasie. Auf verschiedenen realen und surrealen Ebenen versuchen die Vitamins of Society auf spielerische Weise der Zusammensetzung der Wirklichkeit auf die Schliche zu kommen und[..]
END:VEVENT
END:VCALENDAR