BEGIN:VCALENDAR
VERSION:2.0
PRODID:-//eventon.com NONSGML v1.0//EN
BEGIN:VEVENT
UID:69e7524090ca2
DTSTAMP:20260421T123232
DTSTART:20200720T180000Z
DTEND:20200720T215000Z
LOCATION:Murinsel Graz Lendkai 19 8020 Graz
SUMMARY:Gernot Kratzer – PKAW
DESCRIPTION: Zusammen agieren sie wie ein gut geölter PKAW der ausfährt\,  um die Welt zu erobern. Die vier gut aussehenden Herren suchen die Herausforderung\,  gehen ans Limit und übersehen so manche Geschwindigkeitsbegrenzung in Sachen Improvisation und Herzblut. Spontanität\,  Humor\,  (ein wenig) Absurdität und das Aufbrechen von musikalischen Konventionen sind wesentliche Bestandteile[..]
END:VEVENT
END:VCALENDAR