BEGIN:VCALENDAR
VERSION:2.0
PRODID:-//eventon.com NONSGML v1.0//EN
BEGIN:VEVENT
UID:69e9d963f2901
DTSTAMP:20260423T103339
DTSTART:20200812T180000Z
DTEND:20200812T215000Z
LOCATION:Murinsel Amphitheater 
SUMMARY:Mel Brooks - Die verrückte Geschichte der Welt
DESCRIPTION: Mel  Brooks - Die verrückte Geschichte der Welt 20 Uhr\,  Eintritt frei Was Sie schon immer über die Weltgeschichte wissen wollten\,  aber sich nie zu fragen trauten: erzählt von Mel Brooks\,  manchmal absurd\,  manchmal derb\,  aber immer unterhaltsam. Regie: Mel Brooks Mit: Mel Brooks\,  Dom DeLuise\,  Madeline Kahn\,  Gregory Hines[..]
END:VEVENT
END:VCALENDAR