BEGIN:VCALENDAR
VERSION:2.0
PRODID:-//eventon.com NONSGML v1.0//EN
BEGIN:VEVENT
UID:69e89098b7c69
DTSTAMP:20260422T111048
DTSTART:20200804T180000Z
DTEND:20200804T215000Z
LOCATION:Murinsel Amphitheater 
SUMMARY:The Sound Is Innocent
DESCRIPTION: The Sound Is Innocent presented by Crossing Europe 20 Uhr\,  Eintritt frei THE SOUND IS INNOCENT invites you on an audiovisual journey into a dreamlike space that explores the meaning\,  function and significance of the world of electronic and experimental sound. Across five distinct chapters\,  the film guides us through[..]
END:VEVENT
END:VCALENDAR