BEGIN:VCALENDAR
VERSION:2.0
PRODID:-//eventon.com NONSGML v1.0//EN
BEGIN:VEVENT
UID:69e7353573aa3
DTSTAMP:20260421T102837
DTSTART:20181203T173000Z
DTEND:20181203T190000Z
LOCATION:Grazer Murinsel Lendkai 19 8020 Graz
SUMMARY:Monday Nights
DESCRIPTION: Zwei Meister ihres Genres treffen aufeinander\,  um mit handverlesen Texten und bluesigen Tunes einen dichten Abend zu gestalten. Wolfgang Pollanz tut dies mit scharfen\,  geistreichen Kurzgeschichten\,  Oliver Mally glänzt als wahrscheinlich bester europäischer Blues-Gitarrist. Moderation: Gerhard Kosel &nbsp; Eintritt frei!
END:VEVENT
END:VCALENDAR