BEGIN:VCALENDAR
VERSION:2.0
PRODID:-//eventon.com NONSGML v1.0//EN
BEGIN:VEVENT
UID:69e734a841389
DTSTAMP:20260421T102616
DTSTART:20180830T170000Z
DTEND:20180830T200000Z
LOCATION:Grazer Murinsel Lendkai 19 8020 Graz
SUMMARY:Love A.M / / Fibrus
DESCRIPTION: Am 30. August gehts los. Zumindest für Love A.M.\,  die ihr erstes Konzert für die Öffentlichkeit spielen werden. Zusammen mit dem wundervollen sexy Fibrus werden sie über 1\, 5 Stunden Unterhaltungsmusik für alle Altersklassen im Alter von 19-24\, 5 Jahren liefern. hier geht es zur Facebook Veranstaltung Fibrus “Sunshine”\,  ist das Debüt-Album[..]
END:VEVENT
END:VCALENDAR