BEGIN:VCALENDAR
VERSION:2.0
PRODID:-//eventon.com NONSGML v1.0//EN
BEGIN:VEVENT
UID:69e734d48546c
DTSTAMP:20260421T102700
DTSTART:20180718T190000Z
DTEND:20180718T215000Z
LOCATION:Murinsel Amphitheater 
SUMMARY:A Fish Called Wanda
DESCRIPTION: https://youtu.be/MqHzMwMr22I USA/GB 1988 | 108 Min. | FSK: 16 | engl. OV mit dt. UT Regie: Charles Crichton Mit: John Cleese\,  Michael Palin\,  Jamie Lee Curtis &nbsp; Nach einem Juwelendiebstahl durchleben die vier Protagonisten haarsträubende Verwicklungen. Urkomisch\,  zeitlos und rasant. „…Wanda“ ist eine der besten Komödien\,  die bislang die Leinwand[..]
END:VEVENT
END:VCALENDAR