BEGIN:VCALENDAR
VERSION:2.0
PRODID:-//eventon.com NONSGML v1.0//EN
BEGIN:VEVENT
UID:69e74cbb65eef
DTSTAMP:20260421T120859
DTSTART:20180613T130000Z
DTEND:20180616T190000Z
LOCATION:Grazer Murinsel Lendkai 19 8020 Graz
SUMMARY:Spring Festival 2018
DESCRIPTION: Festivalzentrum 2018 auf der Murinsel &nbsp; Das Festivalzentrum des springfestival graz wird 2018 auf der Murinsel seine Zelte aufschlagen. Der schwimmende Blickfang bietet ein einzigartiges Ambiente\,  das perfekt zum bunten Treiben des Festivals passt. Hier können Tickets in Festival-Bänder umgetauscht werden. Öffnungszeiten des Festivalzentrums: 15:00 - 21:00 Uhr Kontakt ab 13.6.  +43[..]
END:VEVENT
END:VCALENDAR