BEGIN:VCALENDAR
VERSION:2.0
PRODID:-//eventon.com NONSGML v1.0//EN
BEGIN:VEVENT
UID:69e4d2537963a
DTSTAMP:20260419T150211
DTSTART:20170808T190000Z
DTEND:20170808T215000Z
LOCATION:Murinsel Amphitheater 
SUMMARY:Talleres Clandestinos
DESCRIPTION: &nbsp; &nbsp; &nbsp; Juana\,  eine junge Bolivianerin\,  verlässt ihren Mann und ihr Kind\,  um in Argentinien als Näherin Geld zu verdienen. Was sie die Müh­­sal der ausbeuterischen Werkstättenarbeit ertragen lässt\,  ist die Aussicht auf eine Rückkehr mit etwas Erspartem. Es kommt jedoch anders als erhofft … &nbsp; Regie: Catalina Molina[..]
END:VEVENT
END:VCALENDAR